BEGIN:VCALENDAR
VERSION:2.0
PRODID:-//eventon.com NONSGML v1.0//EN
CALSCALE:GREGORIAN
METHOD:PUBLISH
BEGIN:VEVENT
UID:69ed0ef370ad9
DTSTAMP:20260425T185859Z
DTSTART:20260604T210000Z
DTEND:20260605T020000Z
LOCATION:Vancouver\,  BC
SUMMARY:2026 Peru Roadshow – Vancouver
DESCRIPTION:2026 Peru Roadshow Experience an exclusive evening showcasing P
 eru’s most inspiring destinations and connecting with leading tourism par
 tners. Join us for an evening of discovery\,  connection\,  and opportunity
 ! Registration opening soon!\nhttps://eventscalendar.ca/events/2026-peru-ro
 adshow-3/
URL:https://eventscalendar.ca/events/2026-peru-roadshow-3/
END:VEVENT
END:VCALENDAR