BEGIN:VCALENDAR
VERSION:2.0
PRODID:-//eventon.com NONSGML v1.0//EN
CALSCALE:GREGORIAN
METHOD:PUBLISH
BEGIN:VEVENT
UID:69ed27e2b9096
DTSTAMP:20260425T204522Z
DTSTART:20260601T180000Z
DTEND:20260601T230000Z
LOCATION:Toronto
SUMMARY:2026 Peru Roadshow - Toronto
DESCRIPTION:2026 Peru Roadshow Experience an exclusive evening showcasing P
 eru’s most inspiring destinations and connecting with leading tourism par
 tners. Join us for an evening of discovery\,  connection\,  and opportunity
 ! Registration opening soon!\nhttps://eventscalendar.ca/events/2026-peru-ro
 adshow-2/
URL:https://eventscalendar.ca/events/2026-peru-roadshow-2/
END:VEVENT
END:VCALENDAR