BEGIN:VCALENDAR
VERSION:2.0
PRODID:-//eventon.com NONSGML v1.0//EN
CALSCALE:GREGORIAN
METHOD:PUBLISH
BEGIN:VEVENT
UID:69e72d53d3588
DTSTAMP:20260421T075459Z
DTSTART:20261021
DTEND:20261022
LOCATION:
SUMMARY:Oct 21 - Peru Connect\,  Calgary
DESCRIPTION:\nhttps://eventscalendar.ca/events/oct-21-peru-connect-calgary/
URL:https://eventscalendar.ca/events/oct-21-peru-connect-calgary/
END:VEVENT
END:VCALENDAR