BEGIN:VCALENDAR
VERSION:2.0
PRODID:-//eventon.com NONSGML v1.0//EN
CALSCALE:GREGORIAN
METHOD:PUBLISH
BEGIN:VEVENT
UID:69e72b809b66b
DTSTAMP:20260421T074712Z
DTSTART:20260709T070000Z
DTEND:20260709T190000Z
LOCATION:
SUMMARY:ACTA 2026 Travel Industry Golf Event
DESCRIPTION:2026 ACTA Travel Industry Golf Event- Details coming soon! Roya
 l Ontario Golf Club\nhttps://eventscalendar.ca/events/acta-2026-travel-indu
 stry-golf-event/
URL:https://eventscalendar.ca/events/acta-2026-travel-industry-golf-event/
END:VEVENT
END:VCALENDAR