BEGIN:VCALENDAR
VERSION:2.0
PRODID:-//eventon.com NONSGML v1.0//EN
CALSCALE:GREGORIAN
METHOD:PUBLISH
BEGIN:VEVENT
UID:69e72ba413fe7
DTSTAMP:20260421T074748Z
DTSTART:20261103T160000Z
DTEND:20261103T200000Z
LOCATION:
SUMMARY:Granite Travel Expo - Kingston\,  Ont
DESCRIPTION:Granite Travel expos’ Kingston\,  Ontario addition. Come lear
 n from some of the best suppliers in the business from Car Rentals\,  hotel
 s\,  tourist boards\,  attractions\,  airlines and tourist boards. Our conc
 ept gives you amble time to meet the suppliers and learn about their produc
 t. We start with select presentations from 4[..]\nhttps://eventscalendar.ca
 /events/granite-travel-expo-kingston-ont/
URL:https://eventscalendar.ca/events/granite-travel-expo-kingston-ont/
END:VEVENT
END:VCALENDAR